BEGIN:VCALENDAR
VERSION:2.0
PRODID:-//eventon.com NONSGML v1.0//EN
CALSCALE:GREGORIAN
METHOD:PUBLISH
BEGIN:VEVENT
UID:69e59f67e1c32
DTSTAMP:20260420T033711Z
DTSTART:20260426T083000Z
DTEND:20260426T100000Z
LOCATION:New Life Baptistengemeente Louis Bouwmeesterstraat 74
SUMMARY:Gerard Langhenkel
DESCRIPTION:Gerard Langhenkel\nhttps://newlifebaptistengemeente.nl/events/g
 erard-langhenkel-6/
URL:https://newlifebaptistengemeente.nl/events/gerard-langhenkel-6/
END:VEVENT
END:VCALENDAR