BEGIN:VCALENDAR
VERSION:2.0
PRODID:-//eventon.com NONSGML v1.0//EN
CALSCALE:GREGORIAN
METHOD:PUBLISH
BEGIN:VEVENT
UID:69e59ba041f53
DTSTAMP:20260420T032104Z
DTSTART:20260503T083000Z
DTEND:20260503T100000Z
LOCATION:New Life Baptistengemeente Louis Bouwmeesterstraat 74
SUMMARY:Remy Splinter
DESCRIPTION:Remy Splinter\nhttps://newlifebaptistengemeente.nl/events/remy-
 splinter-4/
URL:https://newlifebaptistengemeente.nl/events/remy-splinter-4/
END:VEVENT
END:VCALENDAR