BEGIN:VCALENDAR
VERSION:2.0
PRODID:-//eventon.com NONSGML v1.0//EN
CALSCALE:GREGORIAN
METHOD:PUBLISH
BEGIN:VEVENT
UID:69e5a29b3fcb2
DTSTAMP:20260420T035051Z
DTSTART:20260510T083000Z
DTEND:20260510T100000Z
LOCATION:New Life Baptistengemeente Louis Bouwmeesterstraat 74
SUMMARY:Michael Linger
DESCRIPTION:Viering Heilig Avondmaal Tienerdienst in de koffieruimte\nhttps
 ://newlifebaptistengemeente.nl/events/michael-linger-16/
URL:https://newlifebaptistengemeente.nl/events/michael-linger-16/
END:VEVENT
END:VCALENDAR