BEGIN:VCALENDAR
VERSION:2.0
PRODID:-//eventon.com NONSGML v1.0//EN
CALSCALE:GREGORIAN
METHOD:PUBLISH
BEGIN:VEVENT
UID:69e59d8dbb02a
DTSTAMP:20260420T032917Z
DTSTART:20260517T083000Z
DTEND:20260517T100000Z
LOCATION:New Life Baptistengemeente Louis Bouwmeesterstraat 74
SUMMARY:Patrick van der Laan
DESCRIPTION:Patrick van der Laan\nhttps://newlifebaptistengemeente.nl/event
 s/patrick-van-der-laan-5/
URL:https://newlifebaptistengemeente.nl/events/patrick-van-der-laan-5/
END:VEVENT
END:VCALENDAR