BEGIN:VCALENDAR
VERSION:2.0
PRODID:-//eventon.com NONSGML v1.0//EN
CALSCALE:GREGORIAN
METHOD:PUBLISH
BEGIN:VEVENT
UID:69e5a17a46327
DTSTAMP:20260420T034602Z
DTSTART:20260524T083000Z
DTEND:20260524T100000Z
LOCATION:New Life Baptistengemeente Louis Bouwmeesterstraat 74
SUMMARY:Michael Linger
DESCRIPTION:Viering Pinksteren\nhttps://newlifebaptistengemeente.nl/events/
 michael-linger-17/
URL:https://newlifebaptistengemeente.nl/events/michael-linger-17/
END:VEVENT
END:VCALENDAR