BEGIN:VCALENDAR
VERSION:2.0
PRODID:-//eventon.com NONSGML v1.0//EN
CALSCALE:GREGORIAN
METHOD:PUBLISH
BEGIN:VEVENT
UID:69e5a53a1f435
DTSTAMP:20260420T040202Z
DTSTART:20260531T083000Z
DTEND:20260531T100000Z
LOCATION:New Life Baptistengemeente Louis Bouwmeesterstraat 74
SUMMARY:Orlando Bottenbley
DESCRIPTION:Orlando Bottenbley\nhttps://newlifebaptistengemeente.nl/events/
 orlando-bottenbley-19/
URL:https://newlifebaptistengemeente.nl/events/orlando-bottenbley-19/
END:VEVENT
END:VCALENDAR